BEGIN:VCALENDAR
VERSION:2.0
CALSCALE:GREGORIAN
PRODID:adamgibbons/ics
METHOD:PUBLISH
X-PUBLISHED-TTL:PT1H
BEGIN:VEVENT
UID:507@cal.gravitons.org
SUMMARY:Noise Block 13
DTSTAMP:20260425T141245Z
DTSTART:20260502T200000Z
DTEND:20260502T220000Z
URL:https://cal.gravitons.org/event/noise-block-13
LOCATION:online - https://noiseblock.live
STATUS:CONFIRMED
CATEGORIES:dj,owncast,noiseblock,music,livestream,freestreamers,fediwave,EN
	OENT,electronic music
END:VEVENT
BEGIN:VEVENT
UID:239@cal.gravitons.org
SUMMARY:Elif Yalvac - 3rd W3dn35day online gig
DTSTAMP:20260425T141245Z
DTSTART:20260520T190000Z
DTEND:20260520T200000Z
URL:https://cal.gravitons.org/event/elif-yalvac-3rd-w3dn35day-online-gig
LOCATION:online - https://stream.gravitons.org
STATUS:CONFIRMED
CATEGORIES:gravitons,electronic music,fediwave,liveStreaming,music,NHAM eve
	nts,owncast
END:VEVENT
BEGIN:VEVENT
UID:473@cal.gravitons.org
SUMMARY:NHAM in Concert presents… gribbles
DTSTAMP:20260425T141245Z
DTSTART:20260521T190000Z
DTEND:20260521T200000Z
URL:https://cal.gravitons.org/event/nham-in-concert-presents-2
LOCATION:online - https://tv.theindiebeat.fm/
STATUS:CONFIRMED
CATEGORIES:live music,live,fediwave,NHAM in Concert,NHAM events,NHAM,owncas
	t,TIBtv,music,liveStreaming,electronic music,livestream
END:VEVENT
END:VCALENDAR
